BEGIN:VCALENDAR
VERSION:2.0
CALSCALE:GREGORIAN
PRODID:-//Diputació de Barcelona//DibaCMS//EN
BEGIN:VEVENT
UID:2875
DTSTAMP:20260422T192318
DTSTART:20171116T210000
DTEND:20171116T230000
SUMMARY:Tast de vins ecològics
LOCATION:C/ Pilar, 13 08786 Capellades
METHOD:PUBLISH
X-WR-CALNAME:capellades@capellades.cat
X-WR-TIMEZONE:Europe/Madrid
DESCRIPTION:La Lliga i Bodega J. Torres organitzen per al dijous 16 de novembre un tast de vins ecològics i de proximitat.

URI:https://www.capellades.cat/actualitat/agenda/tast-de-vins-ecologics.html
CLASS:PUBLIC
END:VEVENT
END:VCALENDAR
