BEGIN:VCALENDAR
VERSION:2.0
CALSCALE:GREGORIAN
PRODID:-//Diputació de Barcelona//DibaCMS//EN
BEGIN:VEVENT
UID:2873
DTSTAMP:20260422T085630
DTSTART:20171116T183000
DTEND:20171116T200000
SUMMARY:Xerrada de La Marató de TV3
LOCATION:C/ Pilar, 2 08786 Capellades
METHOD:PUBLISH
X-WR-CALNAME:capellades@capellades.cat
X-WR-TIMEZONE:Europe/Madrid
DESCRIPTION:El dijous 16 de novembre la Sala d'Actes de la Biblioteca El Safareig de Capellades acollirà la xerrada "La investigació pot canviar la història?Malalties infeccioses".

URI:https://www.capellades.cat/actualitat/agenda/xerrada-de-la-marato-de-tv3.html
CLASS:PUBLIC
END:VEVENT
END:VCALENDAR
