BEGIN:VCALENDAR
VERSION:2.0
CALSCALE:GREGORIAN
PRODID:-//Diputació de Barcelona//DibaCMS//EN
BEGIN:VEVENT
UID:2867
DTSTAMP:20260422T124536
DTSTART:20171114T200000
DTEND:20171114T210000
SUMMARY:La Diabetis: Una malaltia crònica i estesa"
LOCATION:C/ Pilar, 13 08786 Capellades
METHOD:PUBLISH
X-WR-CALNAME:capellades@capellades.cat
X-WR-TIMEZONE:Europe/Madrid
DESCRIPTION:Les professionals de l’ABS de Capellades,  la infermera  M. Montero, i la Dra. M. Sagarra, faran aquesta xerrada aquest dimarts.

URI:https://www.capellades.cat/actualitat/agenda/la-diabetis-una-malaltia-cronica-i-estesa.html
CLASS:PUBLIC
END:VEVENT
END:VCALENDAR
