BEGIN:VCALENDAR
VERSION:2.0
CALSCALE:GREGORIAN
PRODID:-//Diputació de Barcelona//DibaCMS//EN
BEGIN:VEVENT
UID:2857
DTSTAMP:20260422T095145
DTSTART:20171119T123000
DTEND:20171119T140000
SUMMARY:Segon concert del Festival d'Orgue de Capellades
LOCATION:Plaça Verdaguer 08786 Capellades
METHOD:PUBLISH
X-WR-CALNAME:capellades@capellades.cat
X-WR-TIMEZONE:Europe/Madrid
DESCRIPTION:El Concert de Santa Cecília del Festival d'Orgue de Capellades serà el diumenge 19 de novembre a les 12:30 a l'església de Santa Maria de Capellades.

URI:https://www.capellades.cat/actualitat/agenda/segon-concert-del-festival-dorgue-de-capellades.html
CLASS:PUBLIC
END:VEVENT
END:VCALENDAR
