BEGIN:VCALENDAR
VERSION:2.0
CALSCALE:GREGORIAN
PRODID:-//Diputació de Barcelona//DibaCMS//EN
BEGIN:VEVENT
UID:2852
DTSTAMP:20260421T130632
DTSTART:20171109T200000
DTEND:20171109T210000
SUMMARY:Xerrada amb l'historiador Jordi Pisa
LOCATION:
METHOD:PUBLISH
X-WR-CALNAME:capellades@capellades.cat
X-WR-TIMEZONE:Europe/Madrid
DESCRIPTION:Els homes i les dones el passat han hagut de fer front a molts dels problemes existencials que nosaltres patim en l’actualitat. I també, com nosaltres, s’han esforçat per solucionarlos.
En aquesta xerrada ens fixem en diversos exemples d’autosuperació al llarg de la història i, de passada, en traurem algun consell que podrem aplicar a la nostra vida personal.

URI:https://www.capellades.cat/actualitat/agenda/xerrada-amb-lhistoriador-jordi-pisa.html
CLASS:PUBLIC
END:VEVENT
END:VCALENDAR
