BEGIN:VCALENDAR
VERSION:2.0
CALSCALE:GREGORIAN
PRODID:-//Diputació de Barcelona//DibaCMS//EN
BEGIN:VEVENT
UID:2851
DTSTAMP:20260422T050545
DTSTART:20171108T190000
DTEND:20171108T203000
SUMMARY:Club de Lectura amb També això passarà
LOCATION:C/ Pilar, 2 08786 Capellades
METHOD:PUBLISH
X-WR-CALNAME:capellades@capellades.cat
X-WR-TIMEZONE:Europe/Madrid
DESCRIPTION:Nova trobada del Club de Lectura en aquest cas per comentar el llibre de Milena Busquets "També això passarà".

URI:https://www.capellades.cat/actualitat/agenda/club-de-lectura-amb-tambe-aixo-passara.html
CLASS:PUBLIC
END:VEVENT
END:VCALENDAR
