BEGIN:VCALENDAR
VERSION:2.0
CALSCALE:GREGORIAN
PRODID:-//Diputació de Barcelona//DibaCMS//EN
BEGIN:VEVENT
UID:2843
DTSTAMP:20260421T115825
DTSTART:20171107T180000
DTEND:20171107T190000
SUMMARY:Hora del Conte: El ratolí Pérez
LOCATION:C/ Pilar, 2 08786 Capellades
METHOD:PUBLISH
X-WR-CALNAME:capellades@capellades.cat
X-WR-TIMEZONE:Europe/Madrid
DESCRIPTION:Montse Panero tornarà a la Biblioteca El Safareig per explicar en aquesta ocasió el conte del famós Ratolí Pérez.

URI:https://www.capellades.cat/actualitat/agenda/hora-del-conte-el-ratoli-perez.html
CLASS:PUBLIC
END:VEVENT
END:VCALENDAR
