BEGIN:VCALENDAR
VERSION:2.0
CALSCALE:GREGORIAN
PRODID:-//Diputació de Barcelona//DibaCMS//EN
BEGIN:VEVENT
UID:2842
DTSTAMP:20260422T063451
DTSTART:20171104T180000
DTEND:20171104T230000
SUMMARY:Sortida a Barcelona al teatre
LOCATION:
METHOD:PUBLISH
X-WR-CALNAME:capellades@capellades.cat
X-WR-TIMEZONE:Europe/Madrid
DESCRIPTION:La Societat La Lliga proposa una nova excursió per anar a Barcelona a veure teatre.

URI:https://www.capellades.cat/actualitat/agenda/sortida-a-barcelona-al-teatre.html
CLASS:PUBLIC
END:VEVENT
END:VCALENDAR
