BEGIN:VCALENDAR
VERSION:2.0
CALSCALE:GREGORIAN
PRODID:-//Diputació de Barcelona//DibaCMS//EN
BEGIN:VEVENT
UID:2840
DTSTAMP:20260421T202904
DTSTART:20171104T113000
DTEND:20171104T123000
SUMMARY:Aixeca't
LOCATION:
METHOD:PUBLISH
X-WR-CALNAME:capellades@capellades.cat
X-WR-TIMEZONE:Europe/Madrid
DESCRIPTION:Primera jornada del procés participatiu "Aixeca't" de l'Àrea de Joventut.

URI:https://www.capellades.cat/actualitat/agenda/2840-aixecat.html
CLASS:PUBLIC
END:VEVENT
END:VCALENDAR
