BEGIN:VCALENDAR
VERSION:2.0
CALSCALE:GREGORIAN
PRODID:-//Diputació de Barcelona//DibaCMS//EN
BEGIN:VEVENT
UID:2837
DTSTAMP:20260421T185335
DTSTART:20171102T000000
DTEND:20171102T000000
SUMMARY:Acapte de sang
LOCATION:
METHOD:PUBLISH
X-WR-CALNAME:capellades@capellades.cat
X-WR-TIMEZONE:Europe/Madrid
DESCRIPTION:Avui es fa un nou acapte de sang.

URI:https://www.capellades.cat/actualitat/agenda/acapte-de-sang.html
CLASS:PUBLIC
END:VEVENT
END:VCALENDAR
