BEGIN:VCALENDAR
VERSION:2.0
CALSCALE:GREGORIAN
PRODID:-//Diputació de Barcelona//DibaCMS//EN
BEGIN:VEVENT
UID:2826
DTSTAMP:20260421T103050
DTSTART:20171028T173000
DTEND:20171028T183000
SUMMARY:Presentació equips del Club de Futbol Sala
LOCATION:Avda. Maties Guasch 08786 Capellades
METHOD:PUBLISH
X-WR-CALNAME:capellades@capellades.cat
X-WR-TIMEZONE:Europe/Madrid
DESCRIPTION:Él Club de Futbol Sala Capellades presenta aquest dissabte els seus equips d'aquesta temporada.

URI:https://www.capellades.cat/actualitat/agenda/presentacio-equips-del-club-de-futbol-sala.html
CLASS:PUBLIC
END:VEVENT
END:VCALENDAR
