BEGIN:VCALENDAR
VERSION:2.0
CALSCALE:GREGORIAN
PRODID:-//Diputació de Barcelona//DibaCMS//EN
BEGIN:VEVENT
UID:2819
DTSTAMP:20260421T144416
DTSTART:20171031T171400
DTEND:20171031T190000
SUMMARY:Castanyada Capellades 2017
LOCATION:
METHOD:PUBLISH
X-WR-CALNAME:capellades@capellades.cat
X-WR-TIMEZONE:Europe/Madrid
DESCRIPTION:La festa de la Castanyada començarà el dia 31 amb un berenar popular a un quart de sis de la tarda.

URI:https://www.capellades.cat/actualitat/agenda/castanyada-capellades-2017.html
CLASS:PUBLIC
END:VEVENT
END:VCALENDAR
