BEGIN:VCALENDAR
VERSION:2.0
CALSCALE:GREGORIAN
PRODID:-//Diputació de Barcelona//DibaCMS//EN
BEGIN:VEVENT
UID:2810
DTSTAMP:20260421T113732
DTSTART:20171029T180000
DTEND:20171029T200000
SUMMARY:Espectacle musical amb el grup Play Back Il·lusió
LOCATION:
METHOD:PUBLISH
X-WR-CALNAME:capellades@capellades.cat
X-WR-TIMEZONE:Europe/Madrid
DESCRIPTION:Espectacle musical amb cançons de tots els temps per gaudir d'una estona divertida.

URI:https://www.capellades.cat/actualitat/agenda/espectacle-musical-amb-el-grup-play-back-illusio.html
CLASS:PUBLIC
END:VEVENT
END:VCALENDAR
