BEGIN:VCALENDAR
VERSION:2.0
CALSCALE:GREGORIAN
PRODID:-//Diputació de Barcelona//DibaCMS//EN
BEGIN:VEVENT
UID:2809
DTSTAMP:20260421T104005
DTSTART:20171029T090000
DTEND:20171029T130000
SUMMARY:VIIIena. Cursa Neandertal
LOCATION:
METHOD:PUBLISH
X-WR-CALNAME:capellades@capellades.cat
X-WR-TIMEZONE:Europe/Madrid
DESCRIPTION:A les 9 del matí començarà una nova edició de la Cursa i Caminada del Neandertal organitzada per l'entitat AEMdeKP.

URI:https://www.capellades.cat/actualitat/agenda/viiiena-cursa-neandertal.html
CLASS:PUBLIC
END:VEVENT
END:VCALENDAR
