BEGIN:VCALENDAR
VERSION:2.0
CALSCALE:GREGORIAN
PRODID:-//Diputació de Barcelona//DibaCMS//EN
BEGIN:VEVENT
UID:2803
DTSTAMP:20260422T114854
DTSTART:20171026T210000
DTEND:20171026T230000
SUMMARY:Se suspèn el Sopem lligats amb TON FONT BERNADET
LOCATION:
METHOD:PUBLISH
X-WR-CALNAME:capellades@capellades.cat
X-WR-TIMEZONE:Europe/Madrid
DESCRIPTION:La Societat La Lliga ha suspès aquesta activitat, que tenia com a protagonista en Ton Font Bernadet.

URI:https://www.capellades.cat/actualitat/agenda/se-suspen-el-sopem-lligats-amb-ton-font-bernadet.html
CLASS:PUBLIC
END:VEVENT
END:VCALENDAR
