BEGIN:VCALENDAR
VERSION:2.0
CALSCALE:GREGORIAN
PRODID:-//Diputació de Barcelona//DibaCMS//EN
BEGIN:VEVENT
UID:2784
DTSTAMP:20260422T001642
DTSTART:20171020T170000
DTEND:20171020T183000
SUMMARY:Cinema "Estiu 1993"
LOCATION:
METHOD:PUBLISH
X-WR-CALNAME:capellades@capellades.cat
X-WR-TIMEZONE:Europe/Madrid
DESCRIPTION:Aquesta pel·lícula explica la història de la Frida una nena de 6 anys, alhora que mostra la biografia de la directora del film, Carla Simon.

URI:https://www.capellades.cat/actualitat/agenda/cinema-estiu-1993.html
CLASS:PUBLIC
END:VEVENT
END:VCALENDAR
