BEGIN:VCALENDAR
VERSION:2.0
CALSCALE:GREGORIAN
PRODID:-//Diputació de Barcelona//DibaCMS//EN
BEGIN:VEVENT
UID:2728
DTSTAMP:20260420T031709
DTSTART:20170918T000000
DTEND:20170929T150000
SUMMARY:Inscripcions obertes al curs de català nivell B3
LOCATION:
METHOD:PUBLISH
X-WR-CALNAME:capellades@capellades.cat
X-WR-TIMEZONE:Europe/Madrid
DESCRIPTION:Fins al 29 de setembre es pot fer la inscripció per a un nou curs de català nivell B3.

URI:https://www.capellades.cat/actualitat/agenda/inscripcions-obertes-al-curs-de-catala-nivell-b3.html
CLASS:PUBLIC
END:VEVENT
END:VCALENDAR
