BEGIN:VCALENDAR
VERSION:2.0
CALSCALE:GREGORIAN
PRODID:-//Diputació de Barcelona//DibaCMS//EN
BEGIN:VEVENT
UID:2726
DTSTAMP:20260421T190227
DTSTART:20170920T190000
DTEND:20170920T200000
SUMMARY:Nova trobada del Club de Lectura
LOCATION:
METHOD:PUBLISH
X-WR-CALNAME:capellades@capellades.cat
X-WR-TIMEZONE:Europe/Madrid
DESCRIPTION:Aquesta tardor el Club de Lectura de la Biblioteca El Safareig comença amb el llibre "La vida sense la Sara Amat".

URI:https://www.capellades.cat/actualitat/agenda/nova-trobada-del-club-de-lectura.html
CLASS:PUBLIC
END:VEVENT
END:VCALENDAR
