BEGIN:VCALENDAR
VERSION:2.0
CALSCALE:GREGORIAN
PRODID:-//Diputació de Barcelona//DibaCMS//EN
BEGIN:VEVENT
UID:2718
DTSTAMP:20260422T105932
DTSTART:20170922T213000
DTEND:20170922T233000
SUMMARY:Concert Cant Coral 
LOCATION:
METHOD:PUBLISH
X-WR-CALNAME:capellades@capellades.cat
X-WR-TIMEZONE:Europe/Madrid
DESCRIPTION:La Coral Noves Veus organitza un concert per al divendres 22 de setembre, amb la Coral Polifónica de Carballo (Galícia), com a convidada. 

URI:https://www.capellades.cat/actualitat/agenda/concert-cant-coral-.html
CLASS:PUBLIC
END:VEVENT
END:VCALENDAR
