BEGIN:VCALENDAR
VERSION:2.0
CALSCALE:GREGORIAN
PRODID:-//Diputació de Barcelona//DibaCMS//EN
BEGIN:VEVENT
UID:2717
DTSTAMP:20260422T050016
DTSTART:20170924T130000
DTEND:20170924T140000
SUMMARY:Concert vermut amb The Curlies
LOCATION:C/ Pilar, 13 08786 Capellades
METHOD:PUBLISH
X-WR-CALNAME:capellades@capellades.cat
X-WR-TIMEZONE:Europe/Madrid
DESCRIPTION:The Curlies és un grup musical format per tres joves: la Jana al violoncel, la Ilona amb la guitarra i la Maria amb el piano i, alhora, es fusionen les tres veus. Un format petit amb versions de cançons del moment i portades a un estil suau però amb molta personalitat.

URI:https://www.capellades.cat/actualitat/agenda/2717-concert-vermut-amb-the-curlies.html
CLASS:PUBLIC
END:VEVENT
END:VCALENDAR
