BEGIN:VCALENDAR
VERSION:2.0
CALSCALE:GREGORIAN
PRODID:-//Diputació de Barcelona//DibaCMS//EN
BEGIN:VEVENT
UID:2713
DTSTAMP:20260421T105839
DTSTART:20170919T193000
DTEND:20170919T210000
SUMMARY:Estones de conversa en alemany
LOCATION:C/ Pilar, 13 08786 Capellades
METHOD:PUBLISH
X-WR-CALNAME:capellades@capellades.cat
X-WR-TIMEZONE:Europe/Madrid
DESCRIPTION:Un cop al mes els del grup d'alemany es troben per practicar, en molts nivells diferents.

URI:https://www.capellades.cat/actualitat/agenda/2713-estones-de-conversa-en-alemany.html
CLASS:PUBLIC
END:VEVENT
END:VCALENDAR
