BEGIN:VCALENDAR
VERSION:2.0
CALSCALE:GREGORIAN
PRODID:-//Diputació de Barcelona//DibaCMS//EN
BEGIN:VEVENT
UID:2712
DTSTAMP:20260421T132410
DTSTART:20170914T160000
DTEND:20170914T190000
SUMMARY:Nova visita del SIAD
LOCATION:C/ Pilar, 2 08786 Capellades
METHOD:PUBLISH
X-WR-CALNAME:capellades@capellades.cat
X-WR-TIMEZONE:Europe/Madrid
DESCRIPTION:El Servei d'Informació i Atenció a la Dona atendrà novament els dubtes de les persones interessades.

 

URI:https://www.capellades.cat/actualitat/agenda/2712-nova-visita-del-siad.html
CLASS:PUBLIC
END:VEVENT
END:VCALENDAR
