BEGIN:VCALENDAR
VERSION:2.0
CALSCALE:GREGORIAN
PRODID:-//Diputació de Barcelona//DibaCMS//EN
BEGIN:VEVENT
UID:2711
DTSTAMP:20260422T021930
DTSTART:20170914T200000
DTEND:20170914T213000
SUMMARY:S'ajorna la xerrada: La història com a exemple d'autoajuda
LOCATION:C/ Pilar, 13 08786 Capellades
METHOD:PUBLISH
X-WR-CALNAME:capellades@capellades.cat
X-WR-TIMEZONE:Europe/Madrid
DESCRIPTION:L'¡historiador Jordi Pisa explicarà com els homes i les dones del passat han hagut de fer front a molts dels problemes existencials que nosaltres patim en l’actualitat. I també, com nosaltres, s’han esforçat per solucionar-los. En aquesta xerrada ens fixem en diversos exemples d’autosuperació al llarg de la història i, de passada, en traurem algun consell que podrem aplicar a la nostra vida personal.

URI:https://www.capellades.cat/actualitat/agenda/sajorna-la-xerrada-la-historia-com-a-exemple-dautoajuda.html
CLASS:PUBLIC
END:VEVENT
END:VCALENDAR
