BEGIN:VCALENDAR
VERSION:2.0
CALSCALE:GREGORIAN
PRODID:-//Diputació de Barcelona//DibaCMS//EN
BEGIN:VEVENT
UID:2710
DTSTAMP:20260421T190301
DTSTART:20170930T190000
DTEND:20170930T203000
SUMMARY:Concert de Tardor
LOCATION:C/ del Fossar, 4 08786 Capellades
METHOD:PUBLISH
X-WR-CALNAME:capellades@capellades.cat
X-WR-TIMEZONE:Europe/Madrid
DESCRIPTION:El Concert de Tardor serà amb Ferran Albrich al violoncel i Ah Ruem Ahn al piano, interpretant obres de Casals, Fauré, Britten i Granados entre d'altres.

URI:https://www.capellades.cat/actualitat/agenda/concert-de-tardor.html
CLASS:PUBLIC
END:VEVENT
END:VCALENDAR
