BEGIN:VCALENDAR
VERSION:2.0
CALSCALE:GREGORIAN
PRODID:-//Diputació de Barcelona//DibaCMS//EN
BEGIN:VEVENT
UID:2702
DTSTAMP:20260421T185549
DTSTART:20170911T103000
DTEND:20170911T113000
SUMMARY:Taller per volar estels
LOCATION:
METHOD:PUBLISH
X-WR-CALNAME:capellades@capellades.cat
X-WR-TIMEZONE:Europe/Madrid
DESCRIPTION:Als Jardins de Mossèn Pere Ribot, a la Ronda del Capelló, es farà un taller per fer fer volar el teu estel. Anirà de la mà del Ventilador.

URI:https://www.capellades.cat/actualitat/agenda/taller-per-volar-estels.html
CLASS:PUBLIC
END:VEVENT
END:VCALENDAR
