BEGIN:VCALENDAR
VERSION:2.0
CALSCALE:GREGORIAN
PRODID:-//Diputació de Barcelona//DibaCMS//EN
BEGIN:VEVENT
UID:2691
DTSTAMP:20260421T113808
DTSTART:20170909T100000
DTEND:20170909T140000
SUMMARY:Pintada mural
LOCATION:
METHOD:PUBLISH
X-WR-CALNAME:capellades@capellades.cat
X-WR-TIMEZONE:Europe/Madrid
DESCRIPTION:Pintada de mural: Referèndum és democràcia.

URI:https://www.capellades.cat/actualitat/agenda/pintada-mural.html
CLASS:PUBLIC
END:VEVENT
END:VCALENDAR
