BEGIN:VCALENDAR
VERSION:2.0
CALSCALE:GREGORIAN
PRODID:-//Diputació de Barcelona//DibaCMS//EN
BEGIN:VEVENT
UID:2690
DTSTAMP:20260419T151428
DTSTART:20170902T100000
DTEND:20170902T140000
SUMMARY:Pugem a Miramar a fer un SÍ gegant
LOCATION:
METHOD:PUBLISH
X-WR-CALNAME:capellades@capellades.cat
X-WR-TIMEZONE:Europe/Madrid
DESCRIPTION:El 2 de setembre puja a Miramar a dibuixar un SÍ gegant.

URI:https://www.capellades.cat/actualitat/agenda/pugem-a-miramar-a-fer-un-si-gegant.html
CLASS:PUBLIC
END:VEVENT
END:VCALENDAR
