BEGIN:VCALENDAR
VERSION:2.0
CALSCALE:GREGORIAN
PRODID:-//Diputació de Barcelona//DibaCMS//EN
BEGIN:VEVENT
UID:2674
DTSTAMP:20260421T203106
DTSTART:20170828T090000
DTEND:20170908T140000
SUMMARY:Patina i passa-t'ho bé
LOCATION:
METHOD:PUBLISH
X-WR-CALNAME:capellades@capellades.cat
X-WR-TIMEZONE:Europe/Madrid
DESCRIPTION:Si tens entre 4 i 12 anys pots participar els matins en una activitat de lleure per patinar i passar-ho bé.

 

URI:https://www.capellades.cat/actualitat/agenda/patina-i-passa-tho-be.html
CLASS:PUBLIC
END:VEVENT
END:VCALENDAR
