BEGIN:VCALENDAR
VERSION:2.0
CALSCALE:GREGORIAN
PRODID:-//Diputació de Barcelona//DibaCMS//EN
BEGIN:VEVENT
UID:2673
DTSTAMP:20260421T115925
DTSTART:20170917T183000
DTEND:20170917T200000
SUMMARY:Festa del SÍ gegant
LOCATION:
METHOD:PUBLISH
X-WR-CALNAME:capellades@capellades.cat
X-WR-TIMEZONE:Europe/Madrid
DESCRIPTION:En breu s'obrirà la inscripció per participar a la plaça Catalunya en la construcciód'un SÍ gegant.

Les activitats s'iniciaran a les 17:15 amb un taller infantil, per pintar el terra de la plaça, dinamitzat per El Taller. A la mateixa hora es posarà en marxa el Photocall  amb el SÍ gegant. A partir de les 6 començarà el muntage del Sí gegant, fins les 18:45 que es donarà pas a l'acció "Jo aniré a votar", on participaran personalitats de Capellades, en Jodi Sánchez, president de l'Assemblea Nacional Catalana, l'Ignasi Termes, membre de la Junta directiva d'Omnium i la Montse Sánchez, presidenta de Súmate.

URI:https://www.capellades.cat/actualitat/agenda/festa-del-si-gegant.html
CLASS:PUBLIC
END:VEVENT
END:VCALENDAR
