BEGIN:VCALENDAR
VERSION:2.0
CALSCALE:GREGORIAN
PRODID:-//Diputació de Barcelona//DibaCMS//EN
BEGIN:VEVENT
UID:2638
DTSTAMP:20260421T104234
DTSTART:20170805T180000
DTEND:20170805T230000
SUMMARY:Nova Nit del Comerç
LOCATION:
METHOD:PUBLISH
X-WR-CALNAME:capellades@capellades.cat
X-WR-TIMEZONE:Europe/Madrid
DESCRIPTION:Capellades Comerç organitza per al dissabte 5 d'agost una nova Nit del Comerç.

URI:https://www.capellades.cat/actualitat/agenda/nova-nit-del-comerc.html
CLASS:PUBLIC
END:VEVENT
END:VCALENDAR
