BEGIN:VCALENDAR
VERSION:2.0
CALSCALE:GREGORIAN
PRODID:-//Diputació de Barcelona//DibaCMS//EN
BEGIN:VEVENT
UID:2636
DTSTAMP:20260420T011813
DTSTART:20170805T103000
DTEND:20170805T140000
SUMMARY:Pintada mural de la Festa Major Popular
LOCATION:
METHOD:PUBLISH
X-WR-CALNAME:capellades@capellades.cat
X-WR-TIMEZONE:Europe/Madrid
DESCRIPTION:Un dels primers actes de la Festa Major Popular és la pintada del mural.

URI:https://www.capellades.cat/actualitat/agenda/pintada-mural-de-la-festa-major-popular.html
CLASS:PUBLIC
END:VEVENT
END:VCALENDAR
