BEGIN:VCALENDAR
VERSION:2.0
CALSCALE:GREGORIAN
PRODID:-//Diputació de Barcelona//DibaCMS//EN
BEGIN:VEVENT
UID:2634
DTSTAMP:20260422T003731
DTSTART:20170804T190000
DTEND:20170805T200000
SUMMARY:Torneig de Frontó a la Piscina Blava Municipal
LOCATION:08786 Capellades
METHOD:PUBLISH
X-WR-CALNAME:capellades@capellades.cat
X-WR-TIMEZONE:Europe/Madrid
DESCRIPTION:Els dies 4 i 5 d'agost es farà una nova edició del Torneig de Frontó a la Piscina Blava Municipal de Capellades.

 

URI:https://www.capellades.cat/actualitat/agenda/torneig-de-fronto-a-la-piscina-blava-municipal.html
CLASS:PUBLIC
END:VEVENT
END:VCALENDAR
