BEGIN:VCALENDAR
VERSION:2.0
CALSCALE:GREGORIAN
PRODID:-//Diputació de Barcelona//DibaCMS//EN
BEGIN:VEVENT
UID:2633
DTSTAMP:20260421T185950
DTSTART:20170802T103000
DTEND:20170802T113000
SUMMARY:Oficina mòbil d'Atenció al Consumidor
LOCATION:
METHOD:PUBLISH
X-WR-CALNAME:capellades@capellades.cat
X-WR-TIMEZONE:Europe/Madrid
DESCRIPTION:Nova visita de l'Oficina Mòbil per atendre els dubtes sobre Consum.

URI:https://www.capellades.cat/actualitat/agenda/2633-oficina-mobil-datencio-al-consumidor.html
CLASS:PUBLIC
END:VEVENT
END:VCALENDAR
