BEGIN:VCALENDAR
VERSION:2.0
CALSCALE:GREGORIAN
PRODID:-//Diputació de Barcelona//DibaCMS//EN
BEGIN:VEVENT
UID:2623
DTSTAMP:20260421T104308
DTSTART:20170812T190000
DTEND:20170812T230000
SUMMARY:Capvespre d'Art
LOCATION:C/ Pilar, 13 08786 Capellades
METHOD:PUBLISH
X-WR-CALNAME:capellades@capellades.cat
X-WR-TIMEZONE:Europe/Madrid
DESCRIPTION:Nova edició del Capvespre d'Art organitzat per La Lliga, El Taller i l'Ajuntament de Capellades.

URI:https://www.capellades.cat/actualitat/agenda/2623-capvespre-dart.html
CLASS:PUBLIC
END:VEVENT
END:VCALENDAR
