BEGIN:VCALENDAR
VERSION:2.0
CALSCALE:GREGORIAN
PRODID:-//Diputació de Barcelona//DibaCMS//EN
BEGIN:VEVENT
UID:2621
DTSTAMP:20260419T165827
DTSTART:20170729T213000
DTEND:20170729T235500
SUMMARY:Sopar d'estiu de la Casa d'Andalusia
LOCATION:C/ D'Oló 08786 Capellades
METHOD:PUBLISH
X-WR-CALNAME:capellades@capellades.cat
X-WR-TIMEZONE:Europe/Madrid
DESCRIPTION:La Casa d'Andalusia fa el seu sopar de final de curs aquest dissabte a Casa Bas.

URI:https://www.capellades.cat/actualitat/agenda/sopar-destiu-de-la-casa-dandalusia.html
CLASS:PUBLIC
END:VEVENT
END:VCALENDAR
