BEGIN:VCALENDAR
VERSION:2.0
CALSCALE:GREGORIAN
PRODID:-//Diputació de Barcelona//DibaCMS//EN
BEGIN:VEVENT
UID:2619
DTSTAMP:20260421T130337
DTSTART:20170728T200000
DTEND:20170728T235500
SUMMARY:Piscina Nocturna
LOCATION:08786 Capellades
METHOD:PUBLISH
X-WR-CALNAME:capellades@capellades.cat
X-WR-TIMEZONE:Europe/Madrid
DESCRIPTION:El divendres 28 de juliol es farà la segona edició de la Piscina Nocturna, a partir de les 8 del vespre a la Piscina Blava Municipal de Capellades.

URI:https://www.capellades.cat/actualitat/agenda/2619-piscina-nocturna.html
CLASS:PUBLIC
END:VEVENT
END:VCALENDAR
