BEGIN:VCALENDAR
VERSION:2.0
CALSCALE:GREGORIAN
PRODID:-//Diputació de Barcelona//DibaCMS//EN
BEGIN:VEVENT
UID:2587
DTSTAMP:20260421T185631
DTSTART:20170722T203000
DTEND:20170722T223000
SUMMARY:Cava Tast i Tasta Tapes
LOCATION:
METHOD:PUBLISH
X-WR-CALNAME:capellades@capellades.cat
X-WR-TIMEZONE:Europe/Madrid
DESCRIPTION:La Societat La Lliga, Retalls de Cuina i la Bodega J. Torres organitzen una nova edició del Cava Tast i el Tasta Tapes.

URI:https://www.capellades.cat/actualitat/agenda/cava-tast-i-tasta-tapes.html
CLASS:PUBLIC
END:VEVENT
END:VCALENDAR
