BEGIN:VCALENDAR
VERSION:2.0
CALSCALE:GREGORIAN
PRODID:-//Diputació de Barcelona//DibaCMS//EN
BEGIN:VEVENT
UID:2585
DTSTAMP:20260419T152715
DTSTART:20170721T220000
DTEND:20170721T235500
SUMMARY:Liceu a la fresca: Il Trovatore
LOCATION:C/ Pilar, 13 08786 Capellades
METHOD:PUBLISH
X-WR-CALNAME:capellades@capellades.cat
X-WR-TIMEZONE:Europe/Madrid
DESCRIPTION:L'Ajuntament de Capellades proposa una nova edició del Liceu a la fresca.

URI:https://www.capellades.cat/actualitat/agenda/liceu-a-la-fresca-il-trovatore.html
CLASS:PUBLIC
END:VEVENT
END:VCALENDAR
