BEGIN:VCALENDAR
VERSION:2.0
CALSCALE:GREGORIAN
PRODID:-//Diputació de Barcelona//DibaCMS//EN
BEGIN:VEVENT
UID:2581
DTSTAMP:20260422T032507
DTSTART:20170714T190000
DTEND:20170714T200000
SUMMARY:Trobada poètica
LOCATION:C/ Pilar, 13 08786 Capellades
METHOD:PUBLISH
X-WR-CALNAME:capellades@capellades.cat
X-WR-TIMEZONE:Europe/Madrid
DESCRIPTION:A les 7 de la tarda Trobada Poètica al Saló Rosa.

URI:https://www.capellades.cat/actualitat/agenda/2581-trobada-poetica.html
CLASS:PUBLIC
END:VEVENT
END:VCALENDAR
