BEGIN:VCALENDAR
VERSION:2.0
CALSCALE:GREGORIAN
PRODID:-//Diputació de Barcelona//DibaCMS//EN
BEGIN:VEVENT
UID:2579
DTSTAMP:20260421T114821
DTSTART:20170713T170000
DTEND:20170713T210000
SUMMARY:Vine a donar sang
LOCATION:C/ Pilar, 13 08786 Capellades
METHOD:PUBLISH
X-WR-CALNAME:capellades@capellades.cat
X-WR-TIMEZONE:Europe/Madrid
DESCRIPTION:Nou acapte de sang el dijous 13 de juliol de 5 a 9 del vespre al Teatre La Lliga.

URI:https://www.capellades.cat/actualitat/agenda/2579-vine-a-donar-sang.html
CLASS:PUBLIC
END:VEVENT
END:VCALENDAR
