BEGIN:VCALENDAR
VERSION:2.0
CALSCALE:GREGORIAN
PRODID:-//Diputació de Barcelona//DibaCMS//EN
BEGIN:VEVENT
UID:2566
DTSTAMP:20260421T101836
DTSTART:20170709T180000
DTEND:20170709T190000
SUMMARY:Festa final de curs llar d'infants
LOCATION:C/ Sarrià de Ter, 34-38 08786 Capellades
METHOD:PUBLISH
X-WR-CALNAME:capellades@capellades.cat
X-WR-TIMEZONE:Europe/Madrid
DESCRIPTION:L'AMPA de la llar d'Infants Vailets organitza la festa de fi de curs per aquest diumenge, a les sis de la tarda, al pati de l'escola.

URI:https://www.capellades.cat/actualitat/agenda/festa-final-de-curs-llar-dinfants.html
CLASS:PUBLIC
END:VEVENT
END:VCALENDAR
