BEGIN:VCALENDAR
VERSION:2.0
CALSCALE:GREGORIAN
PRODID:-//Diputació de Barcelona//DibaCMS//EN
BEGIN:VEVENT
UID:2557
DTSTAMP:20260422T062515
DTSTART:20170707T200000
DTEND:20170707T235500
SUMMARY:Sopar d'estiu C/ Sarrià de Ter
LOCATION:
METHOD:PUBLISH
X-WR-CALNAME:capellades@capellades.cat
X-WR-TIMEZONE:Europe/Madrid
DESCRIPTION:Enguany és el cinquè aniversari d'aquest sopar d'estiu.

URI:https://www.capellades.cat/actualitat/agenda/sopar-destiu-c-sarria-de-ter.html
CLASS:PUBLIC
END:VEVENT
END:VCALENDAR
