BEGIN:VCALENDAR
VERSION:2.0
CALSCALE:GREGORIAN
PRODID:-//Diputació de Barcelona//DibaCMS//EN
BEGIN:VEVENT
UID:2555
DTSTAMP:20260422T005626
DTSTART:20170630T000000
DTEND:20170702T140000
SUMMARY:Capgrossos a Ostrava
LOCATION:
METHOD:PUBLISH
X-WR-CALNAME:capellades@capellades.cat
X-WR-TIMEZONE:Europe/Madrid
DESCRIPTION:L'home i la dona del Capelló i els Paperers  de Capgrossos de Capellades participan a l'Aplec Internacional que enguany es fa a Ostrava, a la República Txeca.

URI:https://www.capellades.cat/actualitat/agenda/capgrossos-a-ostrava.html
CLASS:PUBLIC
END:VEVENT
END:VCALENDAR
