BEGIN:VCALENDAR
VERSION:2.0
CALSCALE:GREGORIAN
PRODID:-//Diputació de Barcelona//DibaCMS//EN
BEGIN:VEVENT
UID:2545
DTSTAMP:20260421T115051
DTSTART:20170705T103000
DTEND:20170705T130000
SUMMARY:Oficina mòbil d'atenció al consumidor
LOCATION:
METHOD:PUBLISH
X-WR-CALNAME:capellades@capellades.cat
X-WR-TIMEZONE:Europe/Madrid
DESCRIPTION:Nova visita de l'Oficina Mòbil d'Atenció al Consumidor.

URI:https://www.capellades.cat/actualitat/agenda/oficina-mobil-datencio-al-consumidor.html
CLASS:PUBLIC
END:VEVENT
END:VCALENDAR
