BEGIN:VCALENDAR
VERSION:2.0
CALSCALE:GREGORIAN
PRODID:-//Diputació de Barcelona//DibaCMS//EN
BEGIN:VEVENT
UID:2544
DTSTAMP:20260421T112138
DTSTART:20170702T193000
DTEND:20170702T230000
SUMMARY:Concert de jazz amb el Trio Sunlight
LOCATION:C/ Pilar, 13 08786 Capellades
METHOD:PUBLISH
X-WR-CALNAME:capellades@capellades.cat
X-WR-TIMEZONE:Europe/Madrid
DESCRIPTION:El Pati de La Lliga de Capellades acollirà aquest diumenge a dos qarts de vuit del vespre un concert amb el nou Trio Sunlight.

URI:https://www.capellades.cat/actualitat/agenda/concert-de-jazz-amb-el-trio-sunlight.html
CLASS:PUBLIC
END:VEVENT
END:VCALENDAR
