BEGIN:VCALENDAR
VERSION:2.0
CALSCALE:GREGORIAN
PRODID:-//Diputació de Barcelona//DibaCMS//EN
BEGIN:VEVENT
UID:2504
DTSTAMP:20260422T001459
DTSTART:20170628T000000
DTEND:20170630T000000
SUMMARY:Capgrossos de Capellades a Ostrava
LOCATION:
METHOD:PUBLISH
X-WR-CALNAME:capellades@capellades.cat
X-WR-TIMEZONE:Europe/Madrid
DESCRIPTION:Capgrossos de Capellades anirà a Ostrava, a la República Txeca, per assistir a l'Aplec Internacional 2017 que organitza Adifolk.

En concret ens representaran els Capgrossos del Capelló i els Capgrossos Paperers.

URI:https://www.capellades.cat/actualitat/agenda/capgrossos-de-capellades-a-ostrava.html
CLASS:PUBLIC
END:VEVENT
END:VCALENDAR
