BEGIN:VCALENDAR
VERSION:2.0
CALSCALE:GREGORIAN
PRODID:-//Diputació de Barcelona//DibaCMS//EN
BEGIN:VEVENT
UID:2502
DTSTAMP:20260421T115756
DTSTART:20170627T200000
DTEND:20170627T210000
SUMMARY:Estones de conversa en francès
LOCATION:
METHOD:PUBLISH
X-WR-CALNAME:capellades@capellades.cat
X-WR-TIMEZONE:Europe/Madrid
DESCRIPTION:Si vols passar una estona parlant en francès, no t'ho perdis el dimarts 27 de juny a les 8 del vespre a La Lliga.

URI:https://www.capellades.cat/actualitat/agenda/2502-estones-de-conversa-en-frances.html
CLASS:PUBLIC
END:VEVENT
END:VCALENDAR
