BEGIN:VCALENDAR
VERSION:2.0
CALSCALE:GREGORIAN
PRODID:-//Diputació de Barcelona//DibaCMS//EN
BEGIN:VEVENT
UID:2501
DTSTAMP:20260421T160051
DTSTART:20170627T180000
DTEND:20170627T200000
SUMMARY:Zootrópolis o Mascotas?
LOCATION:C/ Pilar, 2 08786 Capellades
METHOD:PUBLISH
X-WR-CALNAME:capellades@capellades.cat
X-WR-TIMEZONE:Europe/Madrid
DESCRIPTION:Tria la pel·lícula refrescant que es podrà veure a la Biblioteca, tot menjant unes crispetes. 

URI:https://www.capellades.cat/actualitat/agenda/zootropolis-o-mascotas.html
CLASS:PUBLIC
END:VEVENT
END:VCALENDAR
