BEGIN:VCALENDAR
VERSION:2.0
CALSCALE:GREGORIAN
PRODID:-//Diputació de Barcelona//DibaCMS//EN
BEGIN:VEVENT
UID:2499
DTSTAMP:20260420T133312
DTSTART:20170623T210000
DTEND:20170623T235900
SUMMARY:Foguera i sopar de Sant Joan
LOCATION:
METHOD:PUBLISH
X-WR-CALNAME:capellades@capellades.cat
X-WR-TIMEZONE:Europe/Madrid
DESCRIPTION:A les 9 de la nit s'espera l'arribada de les persones que hauran anat a Igualada a recollir la Flama del Canigó. Seguidament es farà els parlaments amb la lectura del manifest i s'encendrà la foguera.

A les 10 de la nit començarà el sopar organitzat per Endavant Anoia. 

URI:https://www.capellades.cat/actualitat/agenda/foguera-i-sopar-de-sant-joan.html
CLASS:PUBLIC
END:VEVENT
END:VCALENDAR
