BEGIN:VCALENDAR
VERSION:2.0
CALSCALE:GREGORIAN
PRODID:-//Diputació de Barcelona//DibaCMS//EN
BEGIN:VEVENT
UID:2496
DTSTAMP:20260420T160538
DTSTART:20170621T000000
DTEND:20170621T235900
SUMMARY:Dimecres, Barri del Ninot
LOCATION:
METHOD:PUBLISH
X-WR-CALNAME:capellades@capellades.cat
X-WR-TIMEZONE:Europe/Madrid
DESCRIPTION:El dimecres es celebra el Barri del Ninot.

URI:https://www.capellades.cat/actualitat/agenda/dimecres-barri-del-ninot.html
CLASS:PUBLIC
END:VEVENT
END:VCALENDAR
